BEGIN:VCALENDAR
VERSION:2.0
PRODID:-//The Tax Faculty//Events//EN
CALSCALE:GREGORIAN
METHOD:PUBLISH
BEGIN:VEVENT
UID:1117-1776950824@taxfaculty.ac.za
DTSTAMP:20260423T132704Z
SUMMARY:Mastering SARS Biometrics & Registered Representative Updates
DESCRIPTION:Master the "why, what, and so what" of SARS biometric authentication and the evolving legal accountability of Registered Representatives. This webinar addresses the rise of eFiling fraud and provides practical strategies to navigate mandatory verification, avoid profile lockouts, and support digitally excluded taxpayers. Gain the technical insight and proactive governance skills needed to manage risk in South Africa’s shifting digital tax landscape.
DTSTART;TZID=Africa/Johannesburg:20260520T150000
DTEND;TZID=Africa/Johannesburg:20260520T170000
LOCATION:Online
ORGANIZER;CN=The Tax Faculty:mailto:systems@taxfaculty.ac.za
URL:https://taxfaculty.ac.za/events/1117
BEGIN:VALARM
ACTION:DISPLAY
DESCRIPTION:Reminder
TRIGGER:-P1D
END:VALARM
END:VEVENT
END:VCALENDAR