BEGIN:VCALENDAR
VERSION:2.0
PRODID:-//The Tax Faculty//Events//EN
CALSCALE:GREGORIAN
METHOD:PUBLISH
BEGIN:VEVENT
UID:1116-1776769705@taxfaculty.ac.za
DTSTAMP:20260421T110825Z
SUMMARY:Taxing of High-Net-Worth Individuals
DESCRIPTION:High-net-worth individuals (assets exceeding R75m) are facing increased SARS scrutiny, with a stronger focus on lifestyle audits, trusts, and offshore holdings. This session unpacks key 2026/2027 developments, including recent compliance notices and the role of the SARS HNW Unit.
DTSTART;TZID=Africa/Johannesburg:20260514T150000
DTEND;TZID=Africa/Johannesburg:20260514T170000
LOCATION:Online
ORGANIZER;CN=The Tax Faculty:mailto:systems@taxfaculty.ac.za
URL:https://taxfaculty.ac.za/events/1116
BEGIN:VALARM
ACTION:DISPLAY
DESCRIPTION:Reminder
TRIGGER:-P1D
END:VALARM
END:VEVENT
END:VCALENDAR