BEGIN:VCALENDAR
VERSION:2.0
PRODID:-//The Tax Faculty//Events//EN
CALSCALE:GREGORIAN
METHOD:PUBLISH
BEGIN:VEVENT
UID:1115-1776932019@taxfaculty.ac.za
DTSTAMP:20260423T081339Z
SUMMARY:Filing IT3(d): A Practical & Technical Guide
DESCRIPTION:A few years into the IT3(d) reporting process, this webinar unpacks the latest developments, persistent challenges, and practical considerations for tax practitioners navigating the current submission cycle.
DTSTART;TZID=Africa/Johannesburg:20260513T090000
DTEND;TZID=Africa/Johannesburg:20260513T110000
LOCATION:Online
ORGANIZER;CN=The Tax Faculty:mailto:systems@taxfaculty.ac.za
URL:https://taxfaculty.ac.za/events/1115
BEGIN:VALARM
ACTION:DISPLAY
DESCRIPTION:Reminder
TRIGGER:-P1D
END:VALARM
END:VEVENT
END:VCALENDAR